BEGIN:VCALENDAR
VERSION:2.0
PRODID:-//Studio Allegory - ECPv6.15.17.1//NONSGML v1.0//EN
CALSCALE:GREGORIAN
METHOD:PUBLISH
X-ORIGINAL-URL:https://studio-allegory.com
X-WR-CALDESC:Events for Studio Allegory
REFRESH-INTERVAL;VALUE=DURATION:PT1H
X-Robots-Tag:noindex
X-PUBLISHED-TTL:PT1H
BEGIN:VTIMEZONE
TZID:America/Vancouver
BEGIN:DAYLIGHT
TZOFFSETFROM:-0800
TZOFFSETTO:-0700
TZNAME:PDT
DTSTART:20250309T100000
END:DAYLIGHT
BEGIN:STANDARD
TZOFFSETFROM:-0700
TZOFFSETTO:-0800
TZNAME:PST
DTSTART:20251102T090000
END:STANDARD
BEGIN:DAYLIGHT
TZOFFSETFROM:-0800
TZOFFSETTO:-0700
TZNAME:PDT
DTSTART:20260308T100000
END:DAYLIGHT
BEGIN:STANDARD
TZOFFSETFROM:-0700
TZOFFSETTO:-0800
TZNAME:PST
DTSTART:20261101T090000
END:STANDARD
BEGIN:DAYLIGHT
TZOFFSETFROM:-0800
TZOFFSETTO:-0700
TZNAME:PDT
DTSTART:20270314T100000
END:DAYLIGHT
BEGIN:STANDARD
TZOFFSETFROM:-0700
TZOFFSETTO:-0800
TZNAME:PST
DTSTART:20271107T090000
END:STANDARD
END:VTIMEZONE
BEGIN:VEVENT
DTSTART;VALUE=DATE:20260508
DTEND;VALUE=DATE:20260512
DTSTAMP:20260420T064335
CREATED:20251229T195440Z
LAST-MODIFIED:20260417T172849Z
UID:10001091-1778198400-1778543999@studio-allegory.com
SUMMARY:QuIRKS - Queer International Rope & Kink Symposium
DESCRIPTION:Welcome to Studio Allegory’s first Queer International Rope & Kink Symposium. \nSOLD OUT – Waitlist available\nOver the period of 3 days we will have 12 workshops and classes\, 3 play parties\, and plenty of time in between to connect with other queer\, curious kinksters in our beautiful and accessible studio*. \nJoin us solo or bring your whole polycule and friends circle to experience a weekend full of exploration of kinks\, sexualities\, intimacies\, and relationships. \nYou can expect a large variety of topics taught by international and local queer presenters whose approaches veer away the old tropes and clichés of a cis heteronormative world of kink and intimacy. \nFor all the info about the symposium\, from presenters and their classes to program\, useful resources and links\, to publications after the conference\, please have a look at the symposium’s resource hub: \nQuirks Info Post\n  \nPlease note: The symposium is happening during the whole weekend. The Intro session is mandatory for participants to ensure that everyone understands the house rules and the workings of the symposium. Any other session is voluntary. You don’t need to participate in everything. Our quiet room will be available during the symposium for people to retreat and the social area between the two workshop areas can be used\, too\, but the noise level needs to be reduced to a minimum to ensure the classes not getting disturbed.
URL:https://studio-allegory.com/event/quirks/
LOCATION:Studio Allegory\, 386 Powell Street\, Vancouver\, V6A 1G4
CATEGORIES:Education,intimacy,kink,shibari,Social,Special events
ATTACH;FMTTYPE=image/jpeg:https://studio-allegory.com/wp-content/uploads/2025/12/quirks-banner.jpg
ORGANIZER;CN="Studio Allegory":MAILTO:info@studio-allegory.com
END:VEVENT
BEGIN:VEVENT
DTSTART;TZID=America/Vancouver:20260513T183000
DTEND;TZID=America/Vancouver:20260513T213000
DTSTAMP:20260420T064335
CREATED:20260405T005234Z
LAST-MODIFIED:20260407T030839Z
UID:10002749-1778697000-1778707800@studio-allegory.com
SUMMARY:Dynamic Ipponnawa with Kindred & Kristie
DESCRIPTION:Ipponawa (“One rope”) is often presented as a slow\, soft and squishy approach to ropes. We uhhhhh\, went the other way with it… \nStriving to find new ways to play with ipponawa\, a fast paced\, dynamic and fluid approach was conceived! Come learn how simply throwing in a little movement can make interesting options unfold. \nRequirements:\nThis class is recommended as a partnered class\, but can be attended as an observer\nShared understanding of each other’s boundaries\nShared understanding of basic nerve and safety information for rope bondage\nBring a blunt edged cutting tool \nPeople tying:\nKnow how to tie a stable single column tie\nKnow how to tie half hitches\n2+ ropes for the body \nPeople being tied:\nBe able to communicate effectively to your tying partner under stress\nHave an understanding of painful vs dangerous rope\nHave a nerve checking system
URL:https://studio-allegory.com/event/dynamic-ipponnawa-with-kindred-kristie/
LOCATION:Studio Allegory\, 386 Powell Street\, Vancouver\, V6A 1G4
CATEGORIES:Education,shibari,Special events
ATTACH;FMTTYPE=image/jpeg:https://studio-allegory.com/wp-content/uploads/2026/04/WhatsApp-Image-2026-04-05-at-06.04.51.jpeg
END:VEVENT
BEGIN:VEVENT
DTSTART;TZID=America/Vancouver:20260614T110000
DTEND;TZID=America/Vancouver:20260614T180000
DTSTAMP:20260420T064335
CREATED:20260417T174302Z
LAST-MODIFIED:20260417T174302Z
UID:10002724-1781434800-1781460000@studio-allegory.com
SUMMARY:Queer Kinky Crafty Market
DESCRIPTION:Queer K*nky Crafts Market  \nWe’re so excited to announce our second market celebrating queer & kinky creativity! Featuring handmade crafts\, queer + kinky makers\, and unique\, curated goodies. \nCome discover art\, toys\, wearables & more — All crafted with love and intention. \nBring your curiosity\, your friends\, and your wallets in support of our wonderful creators! And let’s celebrate community\, craft\, and k*nk together! \nFor a detailed list of all vendors and additional information\, visit our market info page: \nQueer Kinky Craft Market – June 14
URL:https://studio-allegory.com/event/queer-kinky-crafty-market/
LOCATION:Studio Allegory\, 386 Powell Street\, Vancouver\, V6A 1G4
CATEGORIES:kink,Social,Special events
ATTACH;FMTTYPE=image/jpeg:https://studio-allegory.com/wp-content/uploads/2026/03/Market-scaled.jpg
ORGANIZER;CN="Emmy":MAILTO:emmy@studio-allegory.com
END:VEVENT
END:VCALENDAR