BEGIN:VCALENDAR
VERSION:2.0
PRODID:-//Studio Allegory - ECPv6.15.17.1//NONSGML v1.0//EN
CALSCALE:GREGORIAN
METHOD:PUBLISH
X-ORIGINAL-URL:https://studio-allegory.com
X-WR-CALDESC:Events for Studio Allegory
REFRESH-INTERVAL;VALUE=DURATION:PT1H
X-Robots-Tag:noindex
X-PUBLISHED-TTL:PT1H
BEGIN:VTIMEZONE
TZID:America/Vancouver
BEGIN:DAYLIGHT
TZOFFSETFROM:-0800
TZOFFSETTO:-0700
TZNAME:PDT
DTSTART:20240310T100000
END:DAYLIGHT
BEGIN:STANDARD
TZOFFSETFROM:-0700
TZOFFSETTO:-0800
TZNAME:PST
DTSTART:20241103T090000
END:STANDARD
BEGIN:DAYLIGHT
TZOFFSETFROM:-0800
TZOFFSETTO:-0700
TZNAME:PDT
DTSTART:20250309T100000
END:DAYLIGHT
BEGIN:STANDARD
TZOFFSETFROM:-0700
TZOFFSETTO:-0800
TZNAME:PST
DTSTART:20251102T090000
END:STANDARD
BEGIN:DAYLIGHT
TZOFFSETFROM:-0800
TZOFFSETTO:-0700
TZNAME:PDT
DTSTART:20260308T100000
END:DAYLIGHT
BEGIN:STANDARD
TZOFFSETFROM:-0700
TZOFFSETTO:-0800
TZNAME:PST
DTSTART:20261101T090000
END:STANDARD
END:VTIMEZONE
BEGIN:VEVENT
DTSTART;TZID=America/Vancouver:20250705T110000
DTEND;TZID=America/Vancouver:20250705T143000
DTSTAMP:20260420T092951
CREATED:20250606T160730Z
LAST-MODIFIED:20250606T164953Z
UID:10000359-1751713200-1751725800@studio-allegory.com
SUMMARY:Ropes for the bedroom (or any other room\, really)
DESCRIPTION:Ropes for the bedroom (Or any other room\, really) \n\n\n\nRopes for the bedroom is a 4 week workshop series for people who would like to explore the possibilities of ropes for the bedroom and other rooms. We are covering everything you need to know to incorporate ropes in a fun and satisfying way. In a safe(r) and welcoming environment\, we are developing techniques and approaches to rope bondage (shibari) that are actually useful for you. You can attend single parts of the series or all of the series.   \n\n\n\nPart 1: (July 5th)  \n\n\n\n\n\nSafety and consent\n\n\n\nWrist and ankle cuffs\n\n\n\nThe sensation of rope\n\n\n\nDouble column ties and attaching a wrist to a bedpost (for example)\n\n\n\nDifferent positions\n\n\n\n\n\nPart 2: (July 12th) \n\n\n\n\nBrief recap of most important techniques\n\n\n\nAttachment lines to structures that are further away\n\n\n\nDifferent positions\n\n\n\nWrapping your partner’s body\, frictions and hitches\n\n\n\nSensory play while in ropes\n\n\n\n\nPart 3: (July 19th)  \n\n\n\n\nBrief recap of the most important techniques\n\n\n\nToys and ropes: How does the hitachi stay in place\n\n\n\nToys made of ropes. Can I tie a strapon? (yes\, you can) \n\n\n\n“Dirty” floorwork\n\n\n\nPartial suspensions and the possibilities\n\n\n\n\nPart 4: (July 26th)  \n\n\n\n\nBrief recap of the most important techniques\n\n\n\nSweet torment: Stay in place while I have fun\n\n\n\nPossibilities for cuckolding/queaning\n\n\n\nPredicaments: You can choose between sensation A and B\n\n\n\nThe untying process as the main act. \n\n\n\n\n\n\n\nDate and Time:\n\nSeries One: July 5th\, 12th\, 19th\, 26th. 11am till ~2.30pm\n\n\n\n\n\nDuration: ~3.5h per class\n\n\n\nFee: Each part is $70 (plus taxes) per pair! Visit all four parts for $250 (plus taxes) and safe $30. \n\n\n\nPrerequisites: None. We recommend visiting part one at least for the other parts but we will recap the basic techniques briefly in the beginning of each part\n\n\n\nMaterial to bring: Ropes if you have\, we can provide loaner ropes but don’t permit them to be used in contact with mucus membranes (mouth or crotch)\n\n\n\nFor individuals or pairs: Recommended for pairs. \n\n\n\n\n\n\nTickets\n\n\n\n\n\nJuly Series – Individual classes and complete series \n\n\n\n\n\n\n\n\n\n\n\n\n\n\n\n\nFineprint\n\n\n\nPlease have a look at our policies and safety rules. \n\n\n\n \n\n\n\n\nAccessibility: \n\n\n\n\nStudio Allegory is on the ground floor and there are no steps anywhere in the space. There is a single washroom for all with a handle bar and an air hand dryer. We have unscented soap\, and we run an industrial air purifier automatically. Studio Allegory has a kitchen corner with a kettle and a coffee maker\, as well as a mini fridge and a microwave. Studio Allegory also has a quiet room equipped with fidget toys\, colouring books\, blankets\, noise cancelling earmuffs\, and stuffed animals. Upon request we can provide closed captions for our workshops running on a screen. We have masks for a small donation.  \n\n\n\n\nCancellation and refund policy:\n\n\n\n\nIf Studio Allegory has to cancel an event\, we will either refund ticket holders or transfer tickets to similar events in the future\, depending on the wishes of the ticket holder.  \n\n\n\nCancellation by participants: Cancellation before 48h prior to the start of the event entitles the ticket holder to a full refund. Between 48h and the start of the workshop\, we can provide a partial refund (50% minus payment processing fees.) or transfer of the ticket to a similar event in the future. \n\n\n\nNo refund or transfer can be offered for no-shows or cancellation after the event has started.  
URL:https://studio-allegory.com/event/ropes-for-the-bedroom-or-any-other-room-really/2025-07-05/
CATEGORIES:Special events
ATTACH;FMTTYPE=image/jpeg:https://studio-allegory.com/wp-content/uploads/2025/05/Barkas-Addie-Water-877-scaled.jpg
END:VEVENT
BEGIN:VEVENT
DTSTART;TZID=America/Vancouver:20250622T143000
DTEND;TZID=America/Vancouver:20250622T170000
DTSTAMP:20260420T092951
CREATED:20250606T170727Z
LAST-MODIFIED:20250621T193659Z
UID:10000369-1750602600-1750611600@studio-allegory.com
SUMMARY:Welcome Back: A Summer Solstice Ritual with Sharon Pink
DESCRIPTION:As we enter into Summer’s illuminating energy\, what are you called to welcome back\, or perhaps welcome for the first time? Held in a space of magic and kink\,  the invitation is to immerse in an embodied practice (rope or otherwise) to explore your personal and collective aspirations. \n\n\n\nNo specific experience in ritual or kink is needed\, for real! Everything is optional and will be explained as we go along.If rope isn’t your thing\, you’re welcome to bring in another practice/play that will be conducive to a shared space; Bondage\, flogging\, massage\, d/s service\, leather care (no fragrance please!)\, have all worked well in the past. \n\n\n\nA bit of what to expect: Our ritual will begin by Sharon leading the group in collectively casting a circle\, which is a magical container to hold us. Within this circle\, you are invited into a variety of intuitive activities\, listening to poetry\, have space for rope or other practices and allow our intuitive and magical selves to be nourished and have a bit of respite. Again\, everything is optional and will be explained along the way.  \n\n\n\nDetails\n\n\n\n\nThis is a MASKED EVENT! Please wear KN95 or higher.\n\n\n\n\n\nDate and Time: Sunday\, June 22. 2.30pm – 5pm\n\n\n\nDuration: ~2.5h\n\n\n\nFee: Pay what you can. \n\n\n\nPrerequisites: None.\n\n\n\nMaterial to bring: See description above\n\n\n\nFor individuals or pairs: Any constellation or pairing welcome. \n\n\n\n\nTickets\n\n\n\n\n\n\n\n\nSharon Pink\n\n\n\nPlease have a look at our policies and safety rules.Each participants needs a completed release of liability (“waiver”) \n\n\n\n\nAccessibility: \n\n\n\n\nStudio Allegory is on the ground floor and there are no steps anywhere in the space. There is a single washroom for all with a handle bar and an air hand dryer. We have unscented soap\, and we run an industrial air purifier automatically. Studio Allegory has a kitchen corner with a kettle and a coffee maker\, as well as a mini fridge and a microwave. Studio Allegory also has a quiet room equipped with fidget toys\, colouring books\, blankets\, noise cancelling earmuffs\, and stuffed animals. Upon request we can provide closed captions for our workshops running on a screen. We have masks for a small donation.  \n\n\n\n\nCancellation and refund policy:\n\n\n\n\nIf Studio Allegory has to cancel an event\, we will either refund ticket holders or transfer tickets to similar events in the future\, depending on the wishes of the ticket holder.  \n\n\n\nCancellation by participants: Cancellation before 48h prior to the start of the event entitles the ticket holder to a full refund. Between 48h and the start of the workshop\, we can provide a partial refund (50% minus payment processing fees.) or transfer of the ticket to a similar event in the future. \n\n\n\nNo refund or transfer can be offered for no-shows or cancellation after the event has started.  
URL:https://studio-allegory.com/event/ritual/
CATEGORIES:Social,Special events
ATTACH;FMTTYPE=image/jpeg:https://studio-allegory.com/wp-content/uploads/2025/06/IMG_3328-scaled.jpeg
END:VEVENT
END:VCALENDAR