BEGIN:VCALENDAR
VERSION:2.0
PRODID:-//Studio Allegory - ECPv6.15.17.1//NONSGML v1.0//EN
CALSCALE:GREGORIAN
METHOD:PUBLISH
X-WR-CALNAME:Studio Allegory
X-ORIGINAL-URL:https://studio-allegory.com
X-WR-CALDESC:Events for Studio Allegory
REFRESH-INTERVAL;VALUE=DURATION:PT1H
X-Robots-Tag:noindex
X-PUBLISHED-TTL:PT1H
BEGIN:VTIMEZONE
TZID:America/Vancouver
BEGIN:DAYLIGHT
TZOFFSETFROM:-0800
TZOFFSETTO:-0700
TZNAME:PDT
DTSTART:20240310T100000
END:DAYLIGHT
BEGIN:STANDARD
TZOFFSETFROM:-0700
TZOFFSETTO:-0800
TZNAME:PST
DTSTART:20241103T090000
END:STANDARD
BEGIN:DAYLIGHT
TZOFFSETFROM:-0800
TZOFFSETTO:-0700
TZNAME:PDT
DTSTART:20250309T100000
END:DAYLIGHT
BEGIN:STANDARD
TZOFFSETFROM:-0700
TZOFFSETTO:-0800
TZNAME:PST
DTSTART:20251102T090000
END:STANDARD
BEGIN:DAYLIGHT
TZOFFSETFROM:-0800
TZOFFSETTO:-0700
TZNAME:PDT
DTSTART:20260308T100000
END:DAYLIGHT
BEGIN:STANDARD
TZOFFSETFROM:-0700
TZOFFSETTO:-0800
TZNAME:PST
DTSTART:20261101T090000
END:STANDARD
BEGIN:DAYLIGHT
TZOFFSETFROM:-0800
TZOFFSETTO:-0700
TZNAME:PDT
DTSTART:20270314T100000
END:DAYLIGHT
BEGIN:STANDARD
TZOFFSETFROM:-0700
TZOFFSETTO:-0800
TZNAME:PST
DTSTART:20271107T090000
END:STANDARD
END:VTIMEZONE
BEGIN:VEVENT
DTSTART;TZID=America/Vancouver:20260119T183000
DTEND;TZID=America/Vancouver:20260119T213000
DTSTAMP:20260420T070324
CREATED:20250806T001354Z
LAST-MODIFIED:20251002T233155Z
UID:10000710-1768847400-1768858200@studio-allegory.com
SUMMARY:Knot Speed Dating
DESCRIPTION:For people who are looking for tying or play partners. During the first part of the event we will facilitate some games and activities that help people to decide whether they want to tie/play with each other. Games involve * Answer me this! 1 minute time* Rope pulling. Who wants to win\, who wants to lose?* Tying together! How can we collaborate tying a pillow?* The blindfolded top.and more.* \n\n\n\nDetails\n\n\n\n\nDate and Time: Every 3rd Monday of the month 6:30pm – 9:30pm\n\n\n\nDoors open at 6pm\n\n\n\nFee: $20/person (members for free)\n\n\n\nPrerequisites: None\n\n\n\nMaterial to bring: If you have rope\, bring it but no need.\n\n\n\nFor individuals or pairs: For individuals but pairs or any other constellations welcome. \n\n\n\nFor queer folks and friends.\n\n\n\n* Nobody needs to participate in all games and activities. \n\n\n\n\nTickets\n\n\n\n\n\n\n\n\n\n\nFineprint\n\n\n\nEach participants needs a completed release of liability (“waiver”) \n\n\n\nPlease have a look at our policies and safety rules. \n\n\n\n\nAccessibility: \n\n\n\n\nStudio Allegory is on the ground floor and there are no steps anywhere in the space. There is a single washroom for all with a handle bar and an air hand dryer. We have unscented soap\, and we run an industrial air purifier automatically. Studio Allegory has a kitchen corner with a kettle and a coffee maker\, as well as a mini fridge and a microwave. Studio Allegory also has a quiet room equipped with fidget toys\, colouring books\, blankets\, noise cancelling earmuffs\, and stuffed animals. Upon request we can provide closed captions for our workshops running on a screen. We have masks for a small donation.  \n\n\n\n\nCancellation and refund policy:\n\n\n\n\nIf Studio Allegory has to cancel an event\, we will either refund ticket holders or transfer tickets to similar events in the future\, depending on the wishes of the ticket holder.  \n\n\n\nCancellation by participants: Cancellation before 48h prior to the start of the event entitles the ticket holder to a full refund. Between 48h and the start of the workshop\, we can provide a partial refund (50% minus payment processing fees.) or transfer of the ticket to a similar event in the future. \n\n\n\nNo refund or transfer can be offered for no-shows or cancellation after the event has started.  
URL:https://studio-allegory.com/event/knot-speed-dating/2026-01-19/
ATTACH;FMTTYPE=image/jpeg:https://studio-allegory.com/wp-content/uploads/2025/05/Untitled-Instagram-Post.jpg
END:VEVENT
BEGIN:VEVENT
DTSTART;TZID=America/Vancouver:20251215T183000
DTEND;TZID=America/Vancouver:20251215T213000
DTSTAMP:20260420T070324
CREATED:20250806T001354Z
LAST-MODIFIED:20251002T233155Z
UID:10000709-1765823400-1765834200@studio-allegory.com
SUMMARY:Knot Speed Dating
DESCRIPTION:For people who are looking for tying or play partners. During the first part of the event we will facilitate some games and activities that help people to decide whether they want to tie/play with each other. Games involve * Answer me this! 1 minute time* Rope pulling. Who wants to win\, who wants to lose?* Tying together! How can we collaborate tying a pillow?* The blindfolded top.and more.* \n\n\n\nDetails\n\n\n\n\nDate and Time: Every 3rd Monday of the month 6:30pm – 9:30pm\n\n\n\nDoors open at 6pm\n\n\n\nFee: $20/person (members for free)\n\n\n\nPrerequisites: None\n\n\n\nMaterial to bring: If you have rope\, bring it but no need.\n\n\n\nFor individuals or pairs: For individuals but pairs or any other constellations welcome. \n\n\n\nFor queer folks and friends.\n\n\n\n* Nobody needs to participate in all games and activities. \n\n\n\n\nTickets\n\n\n\n\n\n\n\n\n\n\nFineprint\n\n\n\nEach participants needs a completed release of liability (“waiver”) \n\n\n\nPlease have a look at our policies and safety rules. \n\n\n\n\nAccessibility: \n\n\n\n\nStudio Allegory is on the ground floor and there are no steps anywhere in the space. There is a single washroom for all with a handle bar and an air hand dryer. We have unscented soap\, and we run an industrial air purifier automatically. Studio Allegory has a kitchen corner with a kettle and a coffee maker\, as well as a mini fridge and a microwave. Studio Allegory also has a quiet room equipped with fidget toys\, colouring books\, blankets\, noise cancelling earmuffs\, and stuffed animals. Upon request we can provide closed captions for our workshops running on a screen. We have masks for a small donation.  \n\n\n\n\nCancellation and refund policy:\n\n\n\n\nIf Studio Allegory has to cancel an event\, we will either refund ticket holders or transfer tickets to similar events in the future\, depending on the wishes of the ticket holder.  \n\n\n\nCancellation by participants: Cancellation before 48h prior to the start of the event entitles the ticket holder to a full refund. Between 48h and the start of the workshop\, we can provide a partial refund (50% minus payment processing fees.) or transfer of the ticket to a similar event in the future. \n\n\n\nNo refund or transfer can be offered for no-shows or cancellation after the event has started.  
URL:https://studio-allegory.com/event/knot-speed-dating/2025-12-15/
ATTACH;FMTTYPE=image/jpeg:https://studio-allegory.com/wp-content/uploads/2025/05/Untitled-Instagram-Post.jpg
END:VEVENT
BEGIN:VEVENT
DTSTART;TZID=America/Vancouver:20251117T183000
DTEND;TZID=America/Vancouver:20251117T213000
DTSTAMP:20260420T070324
CREATED:20250806T001354Z
LAST-MODIFIED:20251002T233155Z
UID:10000708-1763404200-1763415000@studio-allegory.com
SUMMARY:Knot Speed Dating
DESCRIPTION:For people who are looking for tying or play partners. During the first part of the event we will facilitate some games and activities that help people to decide whether they want to tie/play with each other. Games involve * Answer me this! 1 minute time* Rope pulling. Who wants to win\, who wants to lose?* Tying together! How can we collaborate tying a pillow?* The blindfolded top.and more.* \n\n\n\nDetails\n\n\n\n\nDate and Time: Every 3rd Monday of the month 6:30pm – 9:30pm\n\n\n\nDoors open at 6pm\n\n\n\nFee: $20/person (members for free)\n\n\n\nPrerequisites: None\n\n\n\nMaterial to bring: If you have rope\, bring it but no need.\n\n\n\nFor individuals or pairs: For individuals but pairs or any other constellations welcome. \n\n\n\nFor queer folks and friends.\n\n\n\n* Nobody needs to participate in all games and activities. \n\n\n\n\nTickets\n\n\n\n\n\n\n\n\n\n\nFineprint\n\n\n\nEach participants needs a completed release of liability (“waiver”) \n\n\n\nPlease have a look at our policies and safety rules. \n\n\n\n\nAccessibility: \n\n\n\n\nStudio Allegory is on the ground floor and there are no steps anywhere in the space. There is a single washroom for all with a handle bar and an air hand dryer. We have unscented soap\, and we run an industrial air purifier automatically. Studio Allegory has a kitchen corner with a kettle and a coffee maker\, as well as a mini fridge and a microwave. Studio Allegory also has a quiet room equipped with fidget toys\, colouring books\, blankets\, noise cancelling earmuffs\, and stuffed animals. Upon request we can provide closed captions for our workshops running on a screen. We have masks for a small donation.  \n\n\n\n\nCancellation and refund policy:\n\n\n\n\nIf Studio Allegory has to cancel an event\, we will either refund ticket holders or transfer tickets to similar events in the future\, depending on the wishes of the ticket holder.  \n\n\n\nCancellation by participants: Cancellation before 48h prior to the start of the event entitles the ticket holder to a full refund. Between 48h and the start of the workshop\, we can provide a partial refund (50% minus payment processing fees.) or transfer of the ticket to a similar event in the future. \n\n\n\nNo refund or transfer can be offered for no-shows or cancellation after the event has started.  
URL:https://studio-allegory.com/event/knot-speed-dating/2025-11-17/
ATTACH;FMTTYPE=image/jpeg:https://studio-allegory.com/wp-content/uploads/2025/05/Untitled-Instagram-Post.jpg
END:VEVENT
BEGIN:VEVENT
DTSTART;TZID=America/Vancouver:20251020T183000
DTEND;TZID=America/Vancouver:20251020T213000
DTSTAMP:20260420T070324
CREATED:20250806T001354Z
LAST-MODIFIED:20251002T233155Z
UID:10000707-1760985000-1760995800@studio-allegory.com
SUMMARY:Knot Speed Dating
DESCRIPTION:For people who are looking for tying or play partners. During the first part of the event we will facilitate some games and activities that help people to decide whether they want to tie/play with each other. Games involve * Answer me this! 1 minute time* Rope pulling. Who wants to win\, who wants to lose?* Tying together! How can we collaborate tying a pillow?* The blindfolded top.and more.* \n\n\n\nDetails\n\n\n\n\nDate and Time: Every 3rd Monday of the month 6:30pm – 9:30pm\n\n\n\nDoors open at 6pm\n\n\n\nFee: $20/person (members for free)\n\n\n\nPrerequisites: None\n\n\n\nMaterial to bring: If you have rope\, bring it but no need.\n\n\n\nFor individuals or pairs: For individuals but pairs or any other constellations welcome. \n\n\n\nFor queer folks and friends.\n\n\n\n* Nobody needs to participate in all games and activities. \n\n\n\n\nTickets\n\n\n\n\n\n\n\n\n\n\nFineprint\n\n\n\nEach participants needs a completed release of liability (“waiver”) \n\n\n\nPlease have a look at our policies and safety rules. \n\n\n\n\nAccessibility: \n\n\n\n\nStudio Allegory is on the ground floor and there are no steps anywhere in the space. There is a single washroom for all with a handle bar and an air hand dryer. We have unscented soap\, and we run an industrial air purifier automatically. Studio Allegory has a kitchen corner with a kettle and a coffee maker\, as well as a mini fridge and a microwave. Studio Allegory also has a quiet room equipped with fidget toys\, colouring books\, blankets\, noise cancelling earmuffs\, and stuffed animals. Upon request we can provide closed captions for our workshops running on a screen. We have masks for a small donation.  \n\n\n\n\nCancellation and refund policy:\n\n\n\n\nIf Studio Allegory has to cancel an event\, we will either refund ticket holders or transfer tickets to similar events in the future\, depending on the wishes of the ticket holder.  \n\n\n\nCancellation by participants: Cancellation before 48h prior to the start of the event entitles the ticket holder to a full refund. Between 48h and the start of the workshop\, we can provide a partial refund (50% minus payment processing fees.) or transfer of the ticket to a similar event in the future. \n\n\n\nNo refund or transfer can be offered for no-shows or cancellation after the event has started.  
URL:https://studio-allegory.com/event/knot-speed-dating/2025-10-20/
ATTACH;FMTTYPE=image/jpeg:https://studio-allegory.com/wp-content/uploads/2025/05/Untitled-Instagram-Post.jpg
END:VEVENT
BEGIN:VEVENT
DTSTART;TZID=America/Vancouver:20250731T183000
DTEND;TZID=America/Vancouver:20250731T210000
DTSTAMP:20260420T070324
CREATED:20250717T153358Z
LAST-MODIFIED:20250717T153404Z
UID:10000551-1753986600-1753995600@studio-allegory.com
SUMMARY:Sharps and Safety
DESCRIPTION:In this class Annix will share some of the risks when playing with sharps and blood\, while also covering safer station setup\, basics of piercing\, wound care\, and cleanliness.  \n\n\n\nThey will also share more detailed medical risks\, procedures\, and information to help equip you with more safety measures and responses. After the discussion part of the class everyone will follow along with Annix to set up a safer sharps play station\, administer a needle to oneself or a classmate\, remove needle(s)\, provide wound care\, and station clean up. All materials will be provided\, though you are welcome to bring your own materials. Wear something comfortable\, bring water\, and be sure to eat about 30-60 minutes before class.  \n\n\n\nIf you have any questions or concerns before class you can contact Annix at mxannix@gmail.com \n\n\n\nAbout Annix\n\n\n\nA pro-domme and harm-reduction worker with a life-long obsession with sharps and blood. Annix is continuously learning new things to help deepen and improve their sharps practice. Some of their experience includes working as an assistant to hook suspension performers\, self piercing since 2004\, classes (online and in person) on sharps play\, sharps cleanliness and wound care\, and doing skill shares with a professional piercer. Their first aid and harm reduction training also plays a role in how they approach their practice. Through their sharps journey they have continued to fine tune how they play.  Annix keeps safety and cleanliness as their number one priorities\, while also bringing an ugly-is-beautiful-creativity into scenes. \n\n\n\nYou can find them on:Instagram @callmeannixFetlife @_annixwww.mxannix.com  \n\n\n\nDetails\n\n\n\n\nDate and Time: July 31st 6.30pm\n\n\n\nDuration: ~2.5h\n\n\n\nFee: $35/person (low barrier option available)\n\n\n\nPrerequisites: None\n\n\n\nMaterial to bring: Note taking material (if you like\, you can bring your own needle/sharps kit)\n\n\n\nFor individuals or pairs: Any constellation is welcome\n\n\n\nWho is this for: Queer and friends\n\n\n\n\nPlease have a look at our policies and safety rules. [https://www.studio-allegory.com/guidelines/] \n\n\n\nEach participants needs a completed release of liability (“waiver”) \n\n\n\nTickets\n\n\n\n\n\n\n\n\nTickets also available at the door. If you need assistance or for the membership discount\, please get your ticket at the door.  \n\n\n\nFineprint\n\n\n\n\nAccessibility: \n\n\n\n\nStudio Allegory is on the ground floor and there are no steps anywhere in the space. There is a single washroom for all with a handle bar and an air hand dryer. We have unscented soap\, and we run an industrial air purifier automatically. Studio Allegory has a kitchen corner with a kettle and a coffee maker\, as well as a mini fridge and a microwave. Studio Allegory also has a quiet room equipped with fidget toys\, colouring books\, blankets\, noise cancelling earmuffs\, and stuffed animals. Upon request we can provide closed captions for our workshops running on a screen. We have masks for a small donation.  \n\n\n\n\nCancellation and refund policy:\n\n\n\n\nIf Studio Allegory has to cancel an event\, we will either refund ticket holders or transfer tickets to similar events in the future\, depending on the wishes of the ticket holder.  \n\n\n\nCancellation by participants: Cancellation before 48h prior to the start of the event entitles the ticket holder to a full refund. Between 48h and the start of the workshop\, we can provide a partial refund (50% minus payment processing fees.) or transfer of the ticket to a similar event in the future. \n\n\n\nNo refund or transfer can be offered for no-shows or cancellation after the event has started.  
URL:https://studio-allegory.com/event/sharps/
CATEGORIES:Education
ATTACH;FMTTYPE=image/jpeg:https://studio-allegory.com/wp-content/uploads/2025/07/20250604_154805-2-1-scaled.jpg
END:VEVENT
END:VCALENDAR