BEGIN:VCALENDAR
VERSION:2.0
PRODID:-//Studio Allegory - ECPv6.15.17.1//NONSGML v1.0//EN
CALSCALE:GREGORIAN
METHOD:PUBLISH
X-WR-CALNAME:Studio Allegory
X-ORIGINAL-URL:https://studio-allegory.com
X-WR-CALDESC:Events for Studio Allegory
REFRESH-INTERVAL;VALUE=DURATION:PT1H
X-Robots-Tag:noindex
X-PUBLISHED-TTL:PT1H
BEGIN:VTIMEZONE
TZID:America/Vancouver
BEGIN:DAYLIGHT
TZOFFSETFROM:-0800
TZOFFSETTO:-0700
TZNAME:PDT
DTSTART:20250309T100000
END:DAYLIGHT
BEGIN:STANDARD
TZOFFSETFROM:-0700
TZOFFSETTO:-0800
TZNAME:PST
DTSTART:20251102T090000
END:STANDARD
BEGIN:DAYLIGHT
TZOFFSETFROM:-0800
TZOFFSETTO:-0700
TZNAME:PDT
DTSTART:20260308T100000
END:DAYLIGHT
BEGIN:STANDARD
TZOFFSETFROM:-0700
TZOFFSETTO:-0800
TZNAME:PST
DTSTART:20261101T090000
END:STANDARD
BEGIN:DAYLIGHT
TZOFFSETFROM:-0800
TZOFFSETTO:-0700
TZNAME:PDT
DTSTART:20270314T100000
END:DAYLIGHT
BEGIN:STANDARD
TZOFFSETFROM:-0700
TZOFFSETTO:-0800
TZNAME:PST
DTSTART:20271107T090000
END:STANDARD
END:VTIMEZONE
BEGIN:VEVENT
DTSTART;TZID=America/Vancouver:20260419T130000
DTEND;TZID=America/Vancouver:20260419T170000
DTSTAMP:20260420T065728
CREATED:20260107T174602Z
LAST-MODIFIED:20260308T170405Z
UID:10002277-1776603600-1776618000@studio-allegory.com
SUMMARY:Men Tying Men
DESCRIPTION:Men Tying Men Rope Jam is for all self-identified males and those who live as men on a daily life.   Trans-male\, cis-male\, etc are all welcome. \nSolo\, couple\, etc participants are all welcome to join\, regardless of skill levels from beginner to advance. \n1pm – 2pm is the skill sharing component\, followed by 2pm – 5pm of free tying time.
URL:https://studio-allegory.com/event/mentyingmen-2/2026-04-19/
LOCATION:Studio Allegory\, 386 Powell Street\, Vancouver\, V6A 1G4
CATEGORIES:shibari,Social
ATTACH;FMTTYPE=image/jpeg:https://studio-allegory.com/wp-content/uploads/2026/01/IMG_1007.jpg
END:VEVENT
BEGIN:VEVENT
DTSTART;TZID=America/Vancouver:20260315T130000
DTEND;TZID=America/Vancouver:20260315T170000
DTSTAMP:20260420T065728
CREATED:20260107T174602Z
LAST-MODIFIED:20260308T170405Z
UID:10002276-1773579600-1773594000@studio-allegory.com
SUMMARY:Men Tying Men
DESCRIPTION:Men Tying Men Rope Jam is for all self-identified males and those who live as men on a daily life.   Trans-male\, cis-male\, etc are all welcome. \nSolo\, couple\, etc participants are all welcome to join\, regardless of skill levels from beginner to advance. \n1pm – 2pm is the skill sharing component\, followed by 2pm – 5pm of free tying time.
URL:https://studio-allegory.com/event/mentyingmen-2/2026-03-15/
LOCATION:Studio Allegory\, 386 Powell Street\, Vancouver\, V6A 1G4
CATEGORIES:shibari,Social
ATTACH;FMTTYPE=image/jpeg:https://studio-allegory.com/wp-content/uploads/2026/01/IMG_1007.jpg
END:VEVENT
END:VCALENDAR