BEGIN:VCALENDAR
VERSION:2.0
PRODID:-//Studio Allegory - ECPv6.15.17.1//NONSGML v1.0//EN
CALSCALE:GREGORIAN
METHOD:PUBLISH
X-WR-CALNAME:Studio Allegory
X-ORIGINAL-URL:https://studio-allegory.com
X-WR-CALDESC:Events for Studio Allegory
REFRESH-INTERVAL;VALUE=DURATION:PT1H
X-Robots-Tag:noindex
X-PUBLISHED-TTL:PT1H
BEGIN:VTIMEZONE
TZID:America/Vancouver
BEGIN:DAYLIGHT
TZOFFSETFROM:-0800
TZOFFSETTO:-0700
TZNAME:PDT
DTSTART:20300310T100000
END:DAYLIGHT
BEGIN:STANDARD
TZOFFSETFROM:-0700
TZOFFSETTO:-0800
TZNAME:PST
DTSTART:20301103T090000
END:STANDARD
BEGIN:DAYLIGHT
TZOFFSETFROM:-0800
TZOFFSETTO:-0700
TZNAME:PDT
DTSTART:20310309T100000
END:DAYLIGHT
BEGIN:STANDARD
TZOFFSETFROM:-0700
TZOFFSETTO:-0800
TZNAME:PST
DTSTART:20311102T090000
END:STANDARD
BEGIN:DAYLIGHT
TZOFFSETFROM:-0800
TZOFFSETTO:-0700
TZNAME:PDT
DTSTART:20320314T100000
END:DAYLIGHT
BEGIN:STANDARD
TZOFFSETFROM:-0700
TZOFFSETTO:-0800
TZNAME:PST
DTSTART:20321107T090000
END:STANDARD
END:VTIMEZONE
BEGIN:VEVENT
DTSTART;TZID=America/Vancouver:20310214T200000
DTEND;TZID=America/Vancouver:20310215T000000
DTSTAMP:20260422T070642
CREATED:20260207T161240Z
LAST-MODIFIED:20260331T011418Z
UID:10001890-1928865600-1928880000@studio-allegory.com
SUMMARY:Spacetime - The Play Party
DESCRIPTION:Spacetime is the weekly play jam at Studio Allegory. Come by and enjoy an open and welcoming atmosphere with other people. Connect with others\, play\, hang out\, or get some inspiration from the wide range of possibilities. \n\n\n\nAll types of play welcome as long as they are in compliance with our guidelines (see below) as well as it “fits” the mood of the moment\, i.e. please read the room before you start playing and check whether your play would have impact on others. Please bring your own equipment. \n\n\n\nSpaceTime is included for certain memberships as well as for participants of that day’s “Intro to rope” course. \nMasks recommended.  
URL:https://studio-allegory.com/event/spacetime-2/2031-02-14/
LOCATION:Studio Allegory\, 386 Powell Street\, Vancouver\, V6A 1G4
CATEGORIES:intimacy,kink,shibari,Social
ATTACH;FMTTYPE=image/webp:https://studio-allegory.com/wp-content/uploads/2026/02/summersolstice-scaled.webp
ORGANIZER;CN="Studio Allegory":MAILTO:info@studio-allegory.com
END:VEVENT
BEGIN:VEVENT
DTSTART;TZID=America/Vancouver:20310217T183000
DTEND;TZID=America/Vancouver:20310217T213000
DTSTAMP:20260422T070642
CREATED:20260202T214943Z
LAST-MODIFIED:20260308T170945Z
UID:10001508-1929119400-1929130200@studio-allegory.com
SUMMARY:Monday Night Mingle
DESCRIPTION:Monday Night Mingle is a relaxed\, low-pressure social evening at Studio Allegory.\nIt’s a space to spend time together without an agenda . Come to chat\, connect\, and ease into the week in good company. \nBring a board game you love\, a snack or treat to share\, or a skill you’d like to offer or learn. Some nights might be quiet and cosy\, others playful and lively – all are welcome as they are. You’re invited to mingle\, observe\, participate\, or simply exist in the space. This is an open\, community-focused evening for connection\, curiosity\, and play\, shaped by the people who show up.
URL:https://studio-allegory.com/event/monday-night-mingle/2031-02-17/
LOCATION:Studio Allegory\, 386 Powell Street\, Vancouver\, V6A 1G4
CATEGORIES:intimacy,kink,shibari,Social
ATTACH;FMTTYPE=image/jpeg:https://studio-allegory.com/wp-content/uploads/2026/02/mingle-e1772764647101.jpeg
ORGANIZER;CN="Studio Allegory":MAILTO:info@studio-allegory.com
END:VEVENT
BEGIN:VEVENT
DTSTART;TZID=America/Vancouver:20310221T200000
DTEND;TZID=America/Vancouver:20310222T000000
DTSTAMP:20260422T070642
CREATED:20260207T161240Z
LAST-MODIFIED:20260331T011418Z
UID:10001891-1929470400-1929484800@studio-allegory.com
SUMMARY:Spacetime - The Play Party
DESCRIPTION:Spacetime is the weekly play jam at Studio Allegory. Come by and enjoy an open and welcoming atmosphere with other people. Connect with others\, play\, hang out\, or get some inspiration from the wide range of possibilities. \n\n\n\nAll types of play welcome as long as they are in compliance with our guidelines (see below) as well as it “fits” the mood of the moment\, i.e. please read the room before you start playing and check whether your play would have impact on others. Please bring your own equipment. \n\n\n\nSpaceTime is included for certain memberships as well as for participants of that day’s “Intro to rope” course. \nMasks recommended.  
URL:https://studio-allegory.com/event/spacetime-2/2031-02-21/
LOCATION:Studio Allegory\, 386 Powell Street\, Vancouver\, V6A 1G4
CATEGORIES:intimacy,kink,shibari,Social
ATTACH;FMTTYPE=image/webp:https://studio-allegory.com/wp-content/uploads/2026/02/summersolstice-scaled.webp
ORGANIZER;CN="Studio Allegory":MAILTO:info@studio-allegory.com
END:VEVENT
BEGIN:VEVENT
DTSTART;TZID=America/Vancouver:20310228T200000
DTEND;TZID=America/Vancouver:20310301T000000
DTSTAMP:20260422T070642
CREATED:20260207T161240Z
LAST-MODIFIED:20260331T011418Z
UID:10001892-1930075200-1930089600@studio-allegory.com
SUMMARY:Spacetime - The Play Party
DESCRIPTION:Spacetime is the weekly play jam at Studio Allegory. Come by and enjoy an open and welcoming atmosphere with other people. Connect with others\, play\, hang out\, or get some inspiration from the wide range of possibilities. \n\n\n\nAll types of play welcome as long as they are in compliance with our guidelines (see below) as well as it “fits” the mood of the moment\, i.e. please read the room before you start playing and check whether your play would have impact on others. Please bring your own equipment. \n\n\n\nSpaceTime is included for certain memberships as well as for participants of that day’s “Intro to rope” course. \nMasks recommended.  
URL:https://studio-allegory.com/event/spacetime-2/2031-02-28/
LOCATION:Studio Allegory\, 386 Powell Street\, Vancouver\, V6A 1G4
CATEGORIES:intimacy,kink,shibari,Social
ATTACH;FMTTYPE=image/webp:https://studio-allegory.com/wp-content/uploads/2026/02/summersolstice-scaled.webp
ORGANIZER;CN="Studio Allegory":MAILTO:info@studio-allegory.com
END:VEVENT
BEGIN:VEVENT
DTSTART;TZID=America/Vancouver:20310307T200000
DTEND;TZID=America/Vancouver:20310308T000000
DTSTAMP:20260422T070642
CREATED:20260207T161240Z
LAST-MODIFIED:20260331T011418Z
UID:10002658-1930680000-1930694400@studio-allegory.com
SUMMARY:Spacetime - The Play Party
DESCRIPTION:Spacetime is the weekly play jam at Studio Allegory. Come by and enjoy an open and welcoming atmosphere with other people. Connect with others\, play\, hang out\, or get some inspiration from the wide range of possibilities. \n\n\n\nAll types of play welcome as long as they are in compliance with our guidelines (see below) as well as it “fits” the mood of the moment\, i.e. please read the room before you start playing and check whether your play would have impact on others. Please bring your own equipment. \n\n\n\nSpaceTime is included for certain memberships as well as for participants of that day’s “Intro to rope” course. \nMasks recommended.  
URL:https://studio-allegory.com/event/spacetime-2/2031-03-07/
LOCATION:Studio Allegory\, 386 Powell Street\, Vancouver\, V6A 1G4
CATEGORIES:intimacy,kink,shibari,Social
ATTACH;FMTTYPE=image/webp:https://studio-allegory.com/wp-content/uploads/2026/02/summersolstice-scaled.webp
ORGANIZER;CN="Studio Allegory":MAILTO:info@studio-allegory.com
END:VEVENT
BEGIN:VEVENT
DTSTART;TZID=America/Vancouver:20310308T183000
DTEND;TZID=America/Vancouver:20310308T210000
DTSTAMP:20260422T070642
CREATED:20260131T012855Z
LAST-MODIFIED:20260405T001611Z
UID:10002657-1930761000-1930770000@studio-allegory.com
SUMMARY:Playfighting
DESCRIPTION:Play fighting is a completely different way of engaging with other people. The way we move\, think\, and relate to our environment changes in this type of interaction. This group activity lets participants challenge each other for a play fight. \nIn a safe environment\, participants can challenge themselves and each other to fight with each other in a playful and joyful way. Not winning but experiencing is the focus of this monthly event. At play fighting\, we will start with an introduction that covers motivation\, safety\, consent\, and expectations. \nAfterwards\, it’s the participants’ space and time to experience play fights themselves.
URL:https://studio-allegory.com/event/play-fighting-2/2031-03-08/
LOCATION:Studio Allegory\, 386 Powell Street\, Vancouver\, V6A 1G4
CATEGORIES:kink,Social
ATTACH;FMTTYPE=image/jpeg:https://studio-allegory.com/wp-content/uploads/2026/01/IMG_0917-scaled.jpg
ORGANIZER;CN="Studio Allegory":MAILTO:info@studio-allegory.com
END:VEVENT
BEGIN:VEVENT
DTSTART;TZID=America/Vancouver:20310310T183000
DTEND;TZID=America/Vancouver:20310310T213000
DTSTAMP:20260422T070642
CREATED:20260311T135601Z
LAST-MODIFIED:20260311T135602Z
UID:10002721-1930933800-1930944600@studio-allegory.com
SUMMARY:Orientation - For Newcomers to Kink
DESCRIPTION:New to kink and don’t know where to start? Interested in going to events but you don’t know how to behave\, what to wear\, what to do? You are definitely not alone and going to your first kink event can be quite intimidating. This barrier free newcomer orientation helps people who are brand new to take their first steps into the fascinating world of kink. \nWhat to expect\nPart 1 — The first part is a conversation with the participants about the world of kink: Etiquette online and offline\, expectations\, dress codes at events\, possibilities and some recommendations\, especially for single folks. \nPart 2 —We go through a few of the most common kinks: bondage\, impact\, Dominance/submission\, fetishes\, etc. Participants can see how it feels to hold a flogger or be tied up. \nPart 3 — The last part is all about the open questions of the participants: Where to go from here? What to do with this or that fantasy? How to find someone to play with? And many more questions answered.
URL:https://studio-allegory.com/event/orientation-2/2031-03-10/
LOCATION:Studio Allegory\, 386 Powell Street\, Vancouver\, V6A 1G4
CATEGORIES:Education,intimacy,kink,shibari,Social
ATTACH;FMTTYPE=image/jpeg:https://studio-allegory.com/wp-content/uploads/2025/10/IMG_0921-scaled.jpg
ORGANIZER;CN="Studio Allegory":MAILTO:info@studio-allegory.com
END:VEVENT
BEGIN:VEVENT
DTSTART;TZID=America/Vancouver:20310314T200000
DTEND;TZID=America/Vancouver:20310315T000000
DTSTAMP:20260422T070642
CREATED:20260207T161240Z
LAST-MODIFIED:20260331T011418Z
UID:10002740-1931284800-1931299200@studio-allegory.com
SUMMARY:Spacetime - The Play Party
DESCRIPTION:Spacetime is the weekly play jam at Studio Allegory. Come by and enjoy an open and welcoming atmosphere with other people. Connect with others\, play\, hang out\, or get some inspiration from the wide range of possibilities. \n\n\n\nAll types of play welcome as long as they are in compliance with our guidelines (see below) as well as it “fits” the mood of the moment\, i.e. please read the room before you start playing and check whether your play would have impact on others. Please bring your own equipment. \n\n\n\nSpaceTime is included for certain memberships as well as for participants of that day’s “Intro to rope” course. \nMasks recommended.  
URL:https://studio-allegory.com/event/spacetime-2/2031-03-14/
LOCATION:Studio Allegory\, 386 Powell Street\, Vancouver\, V6A 1G4
CATEGORIES:intimacy,kink,shibari,Social
ATTACH;FMTTYPE=image/webp:https://studio-allegory.com/wp-content/uploads/2026/02/summersolstice-scaled.webp
ORGANIZER;CN="Studio Allegory":MAILTO:info@studio-allegory.com
END:VEVENT
BEGIN:VEVENT
DTSTART;TZID=America/Vancouver:20310321T200000
DTEND;TZID=America/Vancouver:20310322T000000
DTSTAMP:20260422T070642
CREATED:20260207T161240Z
LAST-MODIFIED:20260331T011418Z
UID:10002741-1931889600-1931904000@studio-allegory.com
SUMMARY:Spacetime - The Play Party
DESCRIPTION:Spacetime is the weekly play jam at Studio Allegory. Come by and enjoy an open and welcoming atmosphere with other people. Connect with others\, play\, hang out\, or get some inspiration from the wide range of possibilities. \n\n\n\nAll types of play welcome as long as they are in compliance with our guidelines (see below) as well as it “fits” the mood of the moment\, i.e. please read the room before you start playing and check whether your play would have impact on others. Please bring your own equipment. \n\n\n\nSpaceTime is included for certain memberships as well as for participants of that day’s “Intro to rope” course. \nMasks recommended.  
URL:https://studio-allegory.com/event/spacetime-2/2031-03-21/
LOCATION:Studio Allegory\, 386 Powell Street\, Vancouver\, V6A 1G4
CATEGORIES:intimacy,kink,shibari,Social
ATTACH;FMTTYPE=image/webp:https://studio-allegory.com/wp-content/uploads/2026/02/summersolstice-scaled.webp
ORGANIZER;CN="Studio Allegory":MAILTO:info@studio-allegory.com
END:VEVENT
BEGIN:VEVENT
DTSTART;TZID=America/Vancouver:20310328T200000
DTEND;TZID=America/Vancouver:20310329T000000
DTSTAMP:20260422T070642
CREATED:20260207T161240Z
LAST-MODIFIED:20260331T011418Z
UID:10002742-1932494400-1932508800@studio-allegory.com
SUMMARY:Spacetime - The Play Party
DESCRIPTION:Spacetime is the weekly play jam at Studio Allegory. Come by and enjoy an open and welcoming atmosphere with other people. Connect with others\, play\, hang out\, or get some inspiration from the wide range of possibilities. \n\n\n\nAll types of play welcome as long as they are in compliance with our guidelines (see below) as well as it “fits” the mood of the moment\, i.e. please read the room before you start playing and check whether your play would have impact on others. Please bring your own equipment. \n\n\n\nSpaceTime is included for certain memberships as well as for participants of that day’s “Intro to rope” course. \nMasks recommended.  
URL:https://studio-allegory.com/event/spacetime-2/2031-03-28/
LOCATION:Studio Allegory\, 386 Powell Street\, Vancouver\, V6A 1G4
CATEGORIES:intimacy,kink,shibari,Social
ATTACH;FMTTYPE=image/webp:https://studio-allegory.com/wp-content/uploads/2026/02/summersolstice-scaled.webp
ORGANIZER;CN="Studio Allegory":MAILTO:info@studio-allegory.com
END:VEVENT
END:VCALENDAR